BEGIN:VCALENDAR
PRODID:-//AT Content Types//AT Event//EN
VERSION:2.0
METHOD:PUBLISH
BEGIN:VEVENT
DTSTAMP:20260422T062011Z
CREATED:20251219T171630Z
UID:ATEvent-cf5f0714c431476f8124739f3d114119
LAST-MODIFIED:20251219T171701Z
SUMMARY:FIDE RATED Washingbay New Year Rapid Championship 2025
DTSTART:20260106T194500Z
DTEND:20260106T223000Z
DESCRIPTION:Tuesday 6 January 2026 The 5 rounds will be played back-to
 -back from 8pm to 10:30pm\nCheck-in at 7:50pm. Please take seats at 7:
 55pm
LOCATION:Washingbay Centre\, 92 Ballybeg Road\, Aughamullan\, Coalisland\, County Tyrone\, BT71 5DX
CONTACT:Brendan Jamison\, fidechessni@gmail.com
CLASS:PUBLIC
END:VEVENT
END:VCALENDAR
