BEGIN:VCALENDAR
PRODID:-//AT Content Types//AT Event//EN
VERSION:2.0
METHOD:PUBLISH
BEGIN:VEVENT
DTSTAMP:20260422T041638Z
CREATED:20260331T201218Z
UID:ATEvent-314740e7d6d94b229c16b9421fc4ef72
LAST-MODIFIED:20260331T201325Z
SUMMARY:FIDE RATED Washingbay Chess Club Spring Rapid 2026
DTSTART:20260421T193000Z
DTEND:20260421T223000Z
DESCRIPTION:Tuesday 21 April 2026  Check-in opens at 19:30. 5 rounds w
 ill be played back-to-back from 20:00 to 22:30 : Time Control: 12+0. V
 enue: Washingbay Centre
LOCATION:Washingbay Centre\, 92 Ballybeg Road\, Aughamullan\, Coalisland\, County Tyrone\, BT71 5DX
CONTACT:Brendan Jamison\, fidechessni@gmail.com
CLASS:PUBLIC
END:VEVENT
END:VCALENDAR
