BEGIN:VCALENDAR
PRODID:-//AT Content Types//AT Event//EN
VERSION:2.0
METHOD:PUBLISH
BEGIN:VEVENT
DTSTAMP:20260422T075031Z
CREATED:20260121T131315Z
UID:ATEvent-75e40d94df2447ac873c2b0a767da23d
LAST-MODIFIED:20260121T131350Z
SUMMARY:FIDE RATED Coalisland Rapid Championship 2026 Tuesday 3 February
DTSTART:20260203T195000Z
DTEND:20260203T230000Z
DESCRIPTION:Tuesday 3 February 2026\, Check-in at 19:50\, \nPlease tak
 e seats at 19:55\, The 5 rounds will be played back-to-back from 20:00
  to 22:30\nVenue: Washingbay Centre\, 92 Ballybeg Road\, Aughamullan\,
  Coalisland\, County Tyrone\, BT71 5DX
LOCATION:Washingbay Centre\, 92 Ballybeg Road\, Aughamullan\, Coalisland\, County Tyrone\, BT71 5DX
CONTACT:Brendan Jamison\, fidechessni@gmail.com
CLASS:PUBLIC
END:VEVENT
END:VCALENDAR
