BEGIN:VCALENDAR
PRODID:-//AT Content Types//AT Event//EN
VERSION:2.0
METHOD:PUBLISH
BEGIN:VEVENT
DTSTAMP:20260422T055859Z
CREATED:20260213T185040Z
UID:ATEvent-a0026903752b4679a2187240452e4534
LAST-MODIFIED:20260213T185908Z
SUMMARY:FIDE RATED Coalisland Blitz Championship 2026
DTSTART:20260310T195000Z
DTEND:20260310T223000Z
DESCRIPTION:Tuesday 10 March 2026. Check-in at 19:50\nThe 10 rounds wi
 ll be played back-to-back from 20:00 to 22:30\nTime-control 3-2. Venue
 : Washingbay Centre.
LOCATION:Washingbay Centre\, 92 Ballybeg Road\, Aughamullan\, Coalisland\, County Tyrone\, BT71 5DX
CONTACT:fidechessni@gmail.com
CLASS:PUBLIC
END:VEVENT
END:VCALENDAR
