BEGIN:VCALENDAR
PRODID:-//AT Content Types//AT Event//EN
VERSION:1.0
BEGIN:VEVENT
DTSTART:20200112T120000Z
DTEND:20200112T170000Z
DCREATED:20191202T121352Z
UID:ATEvent-eb7287cc9fa041ebb4085b6030633079
SEQUENCE:0
LAST-MODIFIED:20191202T122511Z
SUMMARY:NICS Lackadaisical #1 2019-20
DESCRIPTION:The first in the series of NICS rapidplays contributing to
  the Alan Burns Grand Prix. Why not enjoy Sunday Lunch in the Cafe fol
 lowed by some entertaining chess.
LOCATION:NICS,Maynard Sinclair Pavilion\, Stormont\, Upper Newtownards Road\, Belfast\, BT4 3TA
PRIORITY:3
TRANSP:0
END:VEVENT
END:VCALENDAR
