BEGIN:VCALENDAR
PRODID:-//AT Content Types//AT Event//EN
VERSION:2.0
METHOD:PUBLISH
BEGIN:VEVENT
DTSTAMP:20260420T042546Z
CREATED:20170305T080812Z
UID:ATEvent-72644a3167314f0a822b03338f3db2ef
LAST-MODIFIED:20170305T080845Z
SUMMARY:NICS Intense #4 2017
DTSTART:20170430T110000Z
DTEND:20170430T153000Z
DESCRIPTION:The fourth and final in the this season's series of NICS r
 apidplays contributing to the Alan Burns Grand Prix. Enjoy Sunday Lunc
 h followed by intense\, entertaining chess - as many rounds as we can 
 fit in. This one will conclude the Alan Burns Grand-Prix for 2016/17 -
  the winner will be rewarded on the day.
LOCATION:NICS,Maynard Sinclair Pavilion\, Stormont
CONTACT:Mark Newman\, 07872544868\, mark.chris.newman@googlemail.com
CLASS:PUBLIC
END:VEVENT
END:VCALENDAR
