BEGIN:VCALENDAR
PRODID:-//AT Content Types//AT Event//EN
VERSION:1.0
BEGIN:VEVENT
DTSTART:20160228T120000Z
DTEND:20160228T163000Z
DCREATED:20160124T144140Z
UID:ATEvent-140902317f1948de928c4f535ae53bfd
SEQUENCE:0
LAST-MODIFIED:20160127T142533Z
SUMMARY:NICS Intense #2
DESCRIPTION:The second in the this season's series of NICS rapidplays 
 contributing to the Alan Burns Grand Prix. Enjoy Sunday Lunch followed
  by intense\, entertaining chess - as many rounds as we can fit in.
LOCATION:NICS Maynard Sinclair Pavilion\, Stormont
PRIORITY:3
TRANSP:0
END:VEVENT
END:VCALENDAR
