BEGIN:VCALENDAR
PRODID:-//AT Content Types//AT Event//EN
VERSION:1.0
BEGIN:VEVENT
DTSTART:20250206T193000Z
DTEND:20250206T220000Z
DCREATED:20241211T131946Z
UID:ATEvent-bf4bc2f139694218863135da611fcfc9
SEQUENCE:0
LAST-MODIFIED:20241211T132019Z
SUMMARY:FIDE RATED City of Bangor February Blitz 2025 [event 6 of 8 in Gold Coast Blitz Grand Prix 2024/2025]
DESCRIPTION:February 06\, 2025\, from 07:30 PM to 10:00 PM\, Bangor Ch
 ess Club
LOCATION:Bangor Chess Club\, Church of Ireland Parish Hall\, 30 Main Street Groomsport
PRIORITY:3
TRANSP:0
END:VEVENT
END:VCALENDAR
