BEGIN:VCALENDAR
PRODID:-//AT Content Types//AT Event//EN
VERSION:2.0
METHOD:PUBLISH
BEGIN:VEVENT
DTSTAMP:20260421T083637Z
CREATED:20250629T110256Z
UID:ATEvent-3221a92b913f48508164290028e950ef
LAST-MODIFIED:20250629T160114Z
SUMMARY:FIDE RATED City of Bangor 10 Round Halloween Blitz at 3+2
DTSTART:20251030T191500Z
DTEND:20251030T220000Z
DESCRIPTION:Celebrate Halloween with 10 rounds of Chess Blitz at City 
 of Bangor Chess Club. Thursday 30th October.
LOCATION:City of Bangor Chess Club\, Church of Ireland Parish Hall\, 30 Main Street Groomsport
CONTACT:Aashay Kher\, fidechessni@gmail.com
CLASS:PUBLIC
END:VEVENT
END:VCALENDAR
