BEGIN:VCALENDAR
PRODID:-//AT Content Types//AT Event//EN
VERSION:1.0
BEGIN:VEVENT
DTSTART:20170420T180000Z
DTEND:20170420T204500Z
DCREATED:20170321T184829Z
UID:ATEvent-eee8658ea6d349ecbdd6ec6c9d397039
SEQUENCE:0
LAST-MODIFIED:20170321T184858Z
SUMMARY:DOUBLE SIMUL MATCH: BANGOR V BELFAST
DESCRIPTION:A Match between Bangor and Belfast....\nDavid Houston v Ba
 ngor (10) players\nMichael Sheerin v Belfast (10) players
LOCATION:Bangor Chess Club\, Groomsport Parish Hall\, Groomsport\, County Down
PRIORITY:3
TRANSP:0
END:VEVENT
END:VCALENDAR
