BEGIN:VCALENDAR
PRODID:-//AT Content Types//AT Event//EN
VERSION:1.0
BEGIN:VEVENT
DTSTART:20251206T100000Z
DTEND:20251206T163000Z
DCREATED:20251031T203530Z
UID:ATEvent-46ca93b4885d4b6c9af2fe43e5953aaf
SEQUENCE:0
LAST-MODIFIED:20251031T203616Z
SUMMARY:Ulster Schools Individual Championships 2025
DESCRIPTION:Come and challenge to become the Ulster Schools Chess Cham
 pion 2025. 6th December at Methodist College.
LOCATION:Methodist College,1 Malone Rd\, Belfast BT9 6BY
PRIORITY:3
TRANSP:0
END:VEVENT
END:VCALENDAR
