BEGIN:VCALENDAR
PRODID:-//AT Content Types//AT Event//EN
VERSION:1.0
BEGIN:VEVENT
DTSTART:20240907T103000Z
DTEND:20240907T170000Z
DCREATED:20240324T162338Z
UID:ATEvent-d0fbfb46802749ac9b6248847011ec33
SEQUENCE:0
LAST-MODIFIED:20240324T162412Z
SUMMARY:FIDE RATED Rostrevor Rapid Championships 2024
LOCATION:An Cuan\, 44 Shore Rd\, Rostrevor\, BT34 3ET
PRIORITY:3
TRANSP:0
END:VEVENT
END:VCALENDAR
