BEGIN:VCALENDAR
PRODID:-//AT Content Types//AT Event//EN
VERSION:1.0
BEGIN:VEVENT
DTSTART:20201109T190000Z
DTEND:20201109T220000Z
DCREATED:20201103T143428Z
UID:ATEvent-03bae92860c54da69dcaade712db6cee
SEQUENCE:0
LAST-MODIFIED:20201103T143445Z
SUMMARY:winter-tournament-2020-21-week4
DESCRIPTION:Using the same rules as our usual Summer Tournament we wil
 l be running a Monday evening drop in tournament. With time limit of 1
 :30mins each. Read below for more details.
LOCATION:lichess.org
PRIORITY:3
TRANSP:0
END:VEVENT
END:VCALENDAR
