BEGIN:VCALENDAR
PRODID:-//AT Content Types//AT Event//EN
VERSION:2.0
METHOD:PUBLISH
BEGIN:VEVENT
DTSTAMP:20260422T080115Z
CREATED:20210207T222609Z
UID:ATEvent-5e19c89fb60a413d95454d7a0023d5bb
LAST-MODIFIED:20210207T222632Z
SUMMARY:winter-tournament-2020-21-week16
DTSTART:20210208T190000Z
DTEND:20210208T220000Z
DESCRIPTION:Using the same rules as our usual Summer Tournament we wil
 l be running a Monday evening drop in tournament. With time limit of 1
 :30mins each. Read below for more details.
LOCATION:lichess,org
CONTACT:Mark Newman\, 07872544868\, mark.chris.newman@googlemail.com
CLASS:PUBLIC
END:VEVENT
END:VCALENDAR
