BEGIN:VCALENDAR
PRODID:-//AT Content Types//AT Event//EN
VERSION:1.0
BEGIN:VEVENT
DTSTART:20210118T190000Z
DTEND:20210118T220000Z
DCREATED:20210114T230946Z
UID:ATEvent-966ff46368eb497fa54fa222e64da161
SEQUENCE:0
LAST-MODIFIED:20210114T231005Z
SUMMARY:winter-tournament-2020-21-week13
DESCRIPTION:Using the same rules as our usual Summer Tournament we wil
 l be running a Monday evening drop in tournament. With time limit of 1
 :30mins each. Read below for more details.
LOCATION:lichess.org
PRIORITY:3
TRANSP:0
END:VEVENT
END:VCALENDAR
