BEGIN:VCALENDAR
PRODID:-//AT Content Types//AT Event//EN
VERSION:1.0
BEGIN:VEVENT
DTSTART:20210322T190000Z
DTEND:20210322T220000Z
DCREATED:20210320T113518Z
UID:ATEvent-509e308905344be0b721a74e15b7a0d4
SEQUENCE:0
LAST-MODIFIED:20210320T114213Z
SUMMARY:Final Round of the Winter Tournament 2020-21: Week 22
DESCRIPTION:The last round of slow chess left in the Winter Tournament
  on Monday 22nd March. Drop-in Tournament. The award ceremony and fun 
 10min each active will take place on Monday March 29th 2021.
LOCATION:lichess.org
PRIORITY:3
TRANSP:0
END:VEVENT
END:VCALENDAR
