BEGIN:VCALENDAR
PRODID:-//AT Content Types//AT Event//EN
VERSION:2.0
METHOD:PUBLISH
BEGIN:VEVENT
DTSTAMP:20260422T093440Z
CREATED:20210726T172955Z
UID:ATEvent-6034adb728964d3bb85f1d33eb008193
LAST-MODIFIED:20210726T192922Z
SUMMARY:The Summer Tournament 2021 Week 13
DTSTART:20210728T184500Z
DTEND:20210728T220000Z
DESCRIPTION:Face to Face Chess at the Civil Service Pavilion. Starts a
 t 6:45pm - please register by 3:00pm on the Day.
LOCATION:NICS,Maynard Sinclair Pavilion\, Stormont\, Upper Newtownards Road\, Belfast\, BT4 3TA
CONTACT:Mark Newman\, 07872544868\, mark.chris.newman@googlemail.com
CLASS:PUBLIC
END:VEVENT
END:VCALENDAR
