BEGIN:VCALENDAR
PRODID:-//AT Content Types//AT Event//EN
VERSION:2.0
METHOD:PUBLISH
BEGIN:VEVENT
DTSTAMP:20260422T050033Z
CREATED:20200410T201031Z
UID:ATEvent-3e8c18f85afd404b97b9426196ec6f50
LAST-MODIFIED:20200410T201047Z
SUMMARY:Ulster Cyber Rapid Championship #002
DTSTART:20200412T160000Z
DTEND:20200412T190000Z
DESCRIPTION:Time control: 10+5 Sunday 12 April 2020 6pm to 9pm (UK/Ire
 land time)
CLASS:PUBLIC
END:VEVENT
END:VCALENDAR
