BEGIN:VCALENDAR
PRODID:-//AT Content Types//AT Event//EN
VERSION:1.0
BEGIN:VEVENT
DTSTART:20200405T160000Z
DTEND:20200405T190000Z
DCREATED:20200331T225934Z
UID:ATEvent-64ceea3b6efe42b68312fad4843ce03a
SEQUENCE:0
LAST-MODIFIED:20200331T230339Z
SUMMARY:Ulster Cyber Rapid Championship #001
DESCRIPTION:Time control: 10+5 Sunday 5 April 2020  6pm to 9pm (UK/Ire
 land time)
PRIORITY:3
TRANSP:0
END:VEVENT
END:VCALENDAR
