BEGIN:VCALENDAR
PRODID:-//AT Content Types//AT Event//EN
VERSION:2.0
METHOD:PUBLISH
BEGIN:VEVENT
DTSTAMP:20260419T141748Z
CREATED:20200329T163948Z
UID:ATEvent-2041d5bcd77049c885e52e4727a2efc3
LAST-MODIFIED:20200329T164221Z
SUMMARY:Ulster Cyber Blitz Championship #001
DTSTART:20200401T170000Z
DTEND:20200401T190000Z
DESCRIPTION:Time control 5+3\nWednesday 1 April 2020\n7pm to 9pm
LOCATION:lichess.org
CONTACT:Brendan Jamison
CLASS:PUBLIC
END:VEVENT
END:VCALENDAR
