BEGIN:VCALENDAR
PRODID:-//AT Content Types//AT Event//EN
VERSION:2.0
METHOD:PUBLISH
BEGIN:VEVENT
DTSTAMP:20260419T123233Z
CREATED:20200405T222415Z
UID:ATEvent-736e497564ef4a21a4cc027b98addd81
LAST-MODIFIED:20200405T222504Z
SUMMARY:The Ulster Cyber Blitz #002.
DTSTART:20200408T170000Z
DTEND:20200408T190000Z
DESCRIPTION:8th April Wednesday from 7-9pm\, the Ulster Cyber Blitz #0
 02.
CLASS:PUBLIC
END:VEVENT
END:VCALENDAR
