BEGIN:VCALENDAR
PRODID:-//AT Content Types//AT Event//EN
VERSION:2.0
METHOD:PUBLISH
BEGIN:VEVENT
DTSTAMP:20260421T055426Z
CREATED:20200127T193559Z
UID:ATEvent-33795eedf2e3488683348972ead0cdc4
LAST-MODIFIED:20200208T065728Z
SUMMARY:Simultaneous GM Matthew Turner 20th February 2020
DTSTART:20200220T174500Z
DTEND:20200220T220000Z
DESCRIPTION:GM Matthew Turner will take on 30 players simultaneously. 
 Venue:NICS,Maynard Sinclair Pavilion\, Stormont\, Upper Newtownards Ro
 ad\, Belfast\, BT4 3TA
LOCATION:NICS,Maynard Sinclair Pavilion\, Stormont\, Upper Newtownards Road\, Belfast\, BT4 3TA
CONTACT:Brendan Jamison\, playchessni@gmail.com
CLASS:PUBLIC
END:VEVENT
END:VCALENDAR
