BEGIN:VCALENDAR
PRODID:-//AT Content Types//AT Event//EN
VERSION:2.0
METHOD:PUBLISH
BEGIN:VEVENT
DTSTAMP:20260422T015216Z
CREATED:20190722T193923Z
UID:ATEvent-8b3e42bd7c1d470388eacfcee9ceaf09
LAST-MODIFIED:20190908T123632Z
SUMMARY:Lisburn October Blitz  (FIDE rated) and Bullet tournament
DTSTART:20191012T083000Z
DTEND:20191012T140000Z
DESCRIPTION:On 12th October enjoy the Lisburn Blitz and Bullet tournam
 ent.
LOCATION:Level 2\, Lisburn City Library\, 23 Linenhall Street\, Lisburn\, BT28 1FJ
CONTACT:B. Jamison\, playchessni@gmail.com
CLASS:PUBLIC
END:VEVENT
END:VCALENDAR
