BEGIN:VCALENDAR
PRODID:-//AT Content Types//AT Event//EN
VERSION:2.0
METHOD:PUBLISH
BEGIN:VEVENT
DTSTAMP:20260420T124143Z
CREATED:20190901T115628Z
UID:ATEvent-b4f6cc8e716a4cda9184c9061c80db44
LAST-MODIFIED:20190901T120355Z
SUMMARY:Cafe Chess at Belfast Culture Night 2019
DTSTART:20190920T133000Z
DTEND:20190921T150000Z
DESCRIPTION:A table awaits you at Caffe Nero Lombard St. Enjoy Chess a
 nd Coffee and good conversation.... This year the Culture night contin
 ues onto Saturday. So more time to enjoy Chess and the atmosphere of t
 he Culture Night.
LOCATION:Caffe Nero Lombard St.
CONTACT:Mark Newman\, 07872544868\, mark.chris.newman@googlemail.com
CLASS:PUBLIC
END:VEVENT
END:VCALENDAR
