BEGIN:VCALENDAR
PRODID:-//AT Content Types//AT Event//EN
VERSION:2.0
METHOD:PUBLISH
BEGIN:VEVENT
DTSTAMP:20260420T135848Z
CREATED:20190908T123418Z
UID:ATEvent-9dcae65dbbc0471895952f42d98f7fb4
LAST-MODIFIED:20190908T123435Z
SUMMARY:LJCC - Belfast Qualifier 2019: 5th October
DTSTART:20191005T073000Z
DTEND:20191005T150000Z
DESCRIPTION:An opportunity for Primary Students to Qualify for the Lon
 don Junior Chess Championships - one of the most prestigious Junior ch
 ess events. The qualifier is an all day 6 round Children's Tournament.
 
LOCATION:Methodist College\, 1 Malone Rd\, Belfast BT9 6BY
CONTACT:Mark Newman\, 07872544868\, mark.chris.newman@googlemail.com
CLASS:PUBLIC
END:VEVENT
END:VCALENDAR
