BEGIN:VCALENDAR
PRODID:-//AT Content Types//AT Event//EN
VERSION:2.0
METHOD:PUBLISH
BEGIN:VEVENT
DTSTAMP:20260421T090353Z
CREATED:20181108T164814Z
UID:ATEvent-17c03b63db29498997301bd0cd98bf54
LAST-MODIFIED:20181108T214910Z
SUMMARY:The Mulcahy Memorial 2019
DTSTART:20190111T180000Z
DTEND:20190113T190000Z
CONTACT:Pat Twomey
CLASS:PUBLIC
END:VEVENT
END:VCALENDAR
