BEGIN:VCALENDAR
PRODID:-//AT Content Types//AT Event//EN
VERSION:2.0
METHOD:PUBLISH
BEGIN:VEVENT
DTSTAMP:20260421T172740Z
CREATED:20190921T082841Z
UID:ATEvent-0c24472900bd4c1db6e5570c85faca69
LAST-MODIFIED:20190921T082953Z
SUMMARY:The Summer Tournament 2019: Last Week: Prize-Giving and mini Tournament - All Welcome
DTSTART:20190925T173000Z
DTEND:20190925T203000Z
DESCRIPTION:The UCU Summer Tournament is open to all chess players and
  provides regular competitive chess during the summer months when many
  chess clubs are closed. The last weds of the Summer tournament consis
 ts of the Prize-Giving and an active tournament.
LOCATION:NICS,Maynard Sinclair Pavilion\, Stormont\, Upper Newtownards Road\, Belfast\, BT4 3TA
CONTACT:Mark Newman\, 07872544868\, mark.chris.newman@googlemail.com
CLASS:PUBLIC
END:VEVENT
END:VCALENDAR
