BEGIN:VCALENDAR
PRODID:-//AT Content Types//AT Event//EN
VERSION:1.0
BEGIN:VEVENT
DTSTART:20190619T173000Z
DTEND:20190619T204500Z
DCREATED:20190613T212743Z
UID:ATEvent-8f7bcac760854bf1a5249952a20a27b6
SEQUENCE:0
LAST-MODIFIED:20190613T212803Z
SUMMARY:The Civil Service 2019 Summer Tournament :Week8
DESCRIPTION:The UCU Civil Service Summer Tournament is open to all che
 ss players and provides regular competitive chess during the summer mo
 nths when many chess clubs are closed.
LOCATION:NICS,Maynard Sinclair Pavilion\, Stormont\, Upper Newtownards Road\, Belfast\, BT4 3TA
PRIORITY:3
TRANSP:0
END:VEVENT
END:VCALENDAR
