BEGIN:VCALENDAR
PRODID:-//AT Content Types//AT Event//EN
VERSION:1.0
BEGIN:VEVENT
DTSTART:20190612T173000Z
DTEND:20190612T204500Z
DCREATED:20190607T001345Z
UID:ATEvent-3bcd234ec29f4d44acc429eea04aabbb
SEQUENCE:0
LAST-MODIFIED:20190607T001354Z
SUMMARY:The Civil Service 2019 Summer Tournament :Week7
DESCRIPTION:The UCU Civil Service Summer Tournament is open to all che
 ss players and provides regular competitive chess during the summer mo
 nths when many chess clubs are closed.
LOCATION:NICS,Maynard Sinclair Pavilion\, Stormont\, Upper Newtownards Road\, Belfast\, BT4 3TA
PRIORITY:3
TRANSP:0
END:VEVENT
END:VCALENDAR
