BEGIN:VCALENDAR
PRODID:-//AT Content Types//AT Event//EN
VERSION:2.0
METHOD:PUBLISH
BEGIN:VEVENT
DTSTAMP:20260425T123029Z
CREATED:20190523T182743Z
UID:ATEvent-350e8997b3674b3c8036e2d624885b19
LAST-MODIFIED:20190523T182758Z
SUMMARY:The Civil Service 2019 Summer Tournament :Week5
DTSTART:20190529T173000Z
DTEND:20190529T204500Z
DESCRIPTION:The UCU Civil Service Summer Tournament is open to all che
 ss players and provides regular competitive chess during the summer mo
 nths when many chess clubs are closed.
LOCATION:NICS,Maynard Sinclair Pavilion\, Stormont\, Upper Newtownards Road\, Belfast\, BT4 3TA
CONTACT:Mark Newman\, 07872544868\, mark.chris.newman@googlemail.com
CLASS:PUBLIC
END:VEVENT
END:VCALENDAR
