BEGIN:VCALENDAR
PRODID:-//AT Content Types//AT Event//EN
VERSION:2.0
METHOD:PUBLISH
BEGIN:VEVENT
DTSTAMP:20260421T135619Z
CREATED:20190519T150555Z
UID:ATEvent-3cf282ea67ad447d99a1e5b3c7a819f7
LAST-MODIFIED:20190520T193352Z
SUMMARY:The Civil Service 2019 Summer Tournament :Week4
DTSTART:20190522T173000Z
DTEND:20190522T204500Z
DESCRIPTION:The UCU Civil Service Summer Tournament is open to all che
 ss players and provides regular competitive chess during the summer mo
 nths when many chess clubs are closed.
LOCATION:NICS,Maynard Sinclair Pavilion\, Stormont\, Upper Newtownards Road\, Belfast\, BT4 3TA
CONTACT:Mark Newman\, 07872544868\, mark.chris.newman@googlemail.com
CLASS:PUBLIC
END:VEVENT
END:VCALENDAR
