BEGIN:VCALENDAR
PRODID:-//AT Content Types//AT Event//EN
VERSION:1.0
BEGIN:VEVENT
DTSTART:20190515T173000Z
DTEND:20190515T203000Z
DCREATED:20190510T154056Z
UID:ATEvent-84e8349f1ac142929fb317cf687e9c5b
SEQUENCE:0
LAST-MODIFIED:20190510T154116Z
SUMMARY:The Civil Service 2019 Summer Tournament :Week3
DESCRIPTION:The UCU Civil Service Summer Tournament is open to all che
 ss players and provides regular competitive chess during the summer mo
 nths when many chess clubs are closed.
LOCATION:NICS,Maynard Sinclair Pavilion\, Stormont\, Upper Newtownards Road\, Belfast\, BT4 3TA
PRIORITY:3
TRANSP:0
END:VEVENT
END:VCALENDAR
