BEGIN:VCALENDAR
PRODID:-//AT Content Types//AT Event//EN
VERSION:2.0
METHOD:PUBLISH
BEGIN:VEVENT
DTSTAMP:20260421T172610Z
CREATED:20190912T185952Z
UID:ATEvent-a0ff0ff330a34a47bbb735f5e8f571be
LAST-MODIFIED:20190912T190008Z
SUMMARY:The Civil Service 2019 Summer Tournament :Week21
DTSTART:20190918T173000Z
DTEND:20190918T204500Z
DESCRIPTION:The UCU Civil Service Summer Tournament is open to all che
 ss players and provides regular competitive chess during the summer mo
 nths when many chess clubs are closed. We are now into the last 3 week
 s of the tournament.You need to play 2 out of the 3 weeks or potential
 ly loose points.
LOCATION:NICS,Maynard Sinclair Pavilion\, Stormont\, Upper Newtownards Road\, Belfast\, BT4 3TA
CONTACT:Mark Newman\, 07872544868\, mark.chris.newman@googlemail.com
CLASS:PUBLIC
END:VEVENT
END:VCALENDAR
