BEGIN:VCALENDAR
PRODID:-//AT Content Types//AT Event//EN
VERSION:1.0
BEGIN:VEVENT
DTSTART:20190911T173000Z
DTEND:20190911T204500Z
DCREATED:20190907T072826Z
UID:ATEvent-8a547fca0e3c4a5d9ca0ba9cc8b32af2
SEQUENCE:0
LAST-MODIFIED:20190907T072841Z
SUMMARY:The Civil Service 2019 Summer Tournament :Week20
DESCRIPTION:The UCU Civil Service Summer Tournament is open to all che
 ss players and provides regular competitive chess during the summer mo
 nths when many chess clubs are closed. We are now into the last 3 week
 s of the tournament.You need to play 2 out of the 3 weeks or potential
 ly loose points.
LOCATION:NICS,Maynard Sinclair Pavilion\, Stormont\, Upper Newtownards Road\, Belfast\, BT4 3TA
PRIORITY:3
TRANSP:0
END:VEVENT
END:VCALENDAR
