BEGIN:VCALENDAR
PRODID:-//AT Content Types//AT Event//EN
VERSION:2.0
METHOD:PUBLISH
BEGIN:VEVENT
DTSTAMP:20260423T153304Z
CREATED:20190503T205630Z
UID:ATEvent-7a536fcfb8da410d8627bbbff3c44f39
LAST-MODIFIED:20190503T205648Z
SUMMARY:The Civil Service 2019 Summer Tournament :Week2
DTSTART:20190508T173000Z
DTEND:20190508T203000Z
DESCRIPTION:The UCU Civil Service Summer Tournament is open to all che
 ss players and provides regular competitive chess during the summer mo
 nths when many chess clubs are closed.
LOCATION:NICS,Maynard Sinclair Pavilion\, Stormont\, Upper Newtownards Road\, Belfast\, BT4 3TA
CONTACT:Mark Newman\, 07872544868\, mark.chris.newman@googlemail.com
CLASS:PUBLIC
END:VEVENT
END:VCALENDAR
