BEGIN:VCALENDAR
PRODID:-//AT Content Types//AT Event//EN
VERSION:2.0
METHOD:PUBLISH
BEGIN:VEVENT
DTSTAMP:20260421T211930Z
CREATED:20190901T115020Z
UID:ATEvent-70edba4790b24d6b96222d95ce6e7ddc
LAST-MODIFIED:20190901T115040Z
SUMMARY:The Civil Service 2019 Summer Tournament :Week19
DTSTART:20190904T173000Z
DTEND:20190904T204500Z
DESCRIPTION:The UCU Civil Service Summer Tournament is open to all che
 ss players and provides regular competitive chess during the summer mo
 nths when many chess clubs are closed. We are now into the last 3 week
 s of the tournament.You need to play 2 out of the 3 weeks or potential
 ly loose points.
LOCATION:NICS,Maynard Sinclair Pavilion\, Stormont\, Upper Newtownards Road\, Belfast\, BT4 3TA
CONTACT:Mark Newman\, 07872544868\, mark.chris.newman@googlemail.com
CLASS:PUBLIC
END:VEVENT
END:VCALENDAR
