BEGIN:VCALENDAR
PRODID:-//AT Content Types//AT Event//EN
VERSION:1.0
BEGIN:VEVENT
DTSTART:20190828T173000Z
DTEND:20190828T204500Z
DCREATED:20190822T114204Z
UID:ATEvent-388e601fbf79420d9f2f373cd0d22004
SEQUENCE:0
LAST-MODIFIED:20190822T114216Z
SUMMARY:The Civil Service 2019 Summer Tournament :Week18
DESCRIPTION:The UCU Civil Service Summer Tournament is open to all che
 ss players and provides regular competitive chess during the summer mo
 nths when many chess clubs are closed.
LOCATION:NICS,Maynard Sinclair Pavilion\, Stormont\, Upper Newtownards Road\, Belfast\, BT4 3TA
PRIORITY:3
TRANSP:0
END:VEVENT
END:VCALENDAR
