BEGIN:VCALENDAR
PRODID:-//AT Content Types//AT Event//EN
VERSION:1.0
BEGIN:VEVENT
DTSTART:20190821T173000Z
DTEND:20190821T204500Z
DCREATED:20190816T211212Z
UID:ATEvent-cafe8175201b4e0caeefc7bd7b41afc5
SEQUENCE:0
LAST-MODIFIED:20190816T211225Z
SUMMARY:The Civil Service 2019 Summer Tournament :Week17
DESCRIPTION:The UCU Civil Service Summer Tournament is open to all che
 ss players and provides regular competitive chess during the summer mo
 nths when many chess clubs are closed.
LOCATION:NICS,Maynard Sinclair Pavilion\, Stormont\, Upper Newtownards Road\, Belfast\, BT4 3TA
PRIORITY:3
TRANSP:0
END:VEVENT
END:VCALENDAR
