BEGIN:VCALENDAR
PRODID:-//AT Content Types//AT Event//EN
VERSION:2.0
METHOD:PUBLISH
BEGIN:VEVENT
DTSTAMP:20260421T154017Z
CREATED:20190809T201234Z
UID:ATEvent-0dc3010d96884778a47ca263973ddd83
LAST-MODIFIED:20190809T202210Z
SUMMARY:The Civil Service 2019 Summer Tournament :Week16
DTSTART:20190814T173000Z
DTEND:20190814T204500Z
DESCRIPTION:The UCU Civil Service Summer Tournament is open to all che
 ss players and provides regular competitive chess during the summer mo
 nths when many chess clubs are closed.
LOCATION:NICS,Maynard Sinclair Pavilion\, Stormont\, Upper Newtownards Road\, Belfast\, BT4 3TA
CONTACT:Adrian Dornford-Smith\, 07817217265
CLASS:PUBLIC
END:VEVENT
END:VCALENDAR
