BEGIN:VCALENDAR
PRODID:-//AT Content Types//AT Event//EN
VERSION:1.0
BEGIN:VEVENT
DTSTART:20190807T173000Z
DTEND:20190807T204500Z
DCREATED:20190801T183507Z
UID:ATEvent-f8c9e59bc6064e04a6ff43ec6068677b
SEQUENCE:0
LAST-MODIFIED:20190801T183522Z
SUMMARY:The Civil Service 2019 Summer Tournament :Week15
DESCRIPTION:The UCU Civil Service Summer Tournament is open to all che
 ss players and provides regular competitive chess during the summer mo
 nths when many chess clubs are closed.
LOCATION:NICS,Maynard Sinclair Pavilion\, Stormont\, Upper Newtownards Road\, Belfast\, BT4 3TA
PRIORITY:3
TRANSP:0
END:VEVENT
END:VCALENDAR
