BEGIN:VCALENDAR
PRODID:-//AT Content Types//AT Event//EN
VERSION:1.0
BEGIN:VEVENT
DTSTART:20190731T174500Z
DTEND:20190731T204500Z
DCREATED:20190725T184417Z
UID:ATEvent-874d2273d53848b2b1f244fdc7528a3a
SEQUENCE:0
LAST-MODIFIED:20190725T184429Z
SUMMARY:The Civil Service 2019 Summer Tournament :Week14
DESCRIPTION:The UCU Civil Service Summer Tournament is open to all che
 ss players and provides regular competitive chess during the summer mo
 nths when many chess clubs are closed.
LOCATION:NICS,Maynard Sinclair Pavilion\, Stormont\, Upper Newtownards Road\, Belfast\, BT4 3TA
PRIORITY:3
TRANSP:0
END:VEVENT
END:VCALENDAR
