BEGIN:VCALENDAR
PRODID:-//AT Content Types//AT Event//EN
VERSION:2.0
METHOD:PUBLISH
BEGIN:VEVENT
DTSTAMP:20260423T171110Z
CREATED:20190713T102417Z
UID:ATEvent-701b22df8eeb48fc8ef1cfc75feda682
LAST-MODIFIED:20190713T103312Z
SUMMARY:The Civil Service 2019 Summer Tournament :Week12
DTSTART:20190717T173000Z
DTEND:20190717T204500Z
DESCRIPTION:The UCU Civil Service Summer Tournament is open to all che
 ss players and provides regular competitive chess during the summer mo
 nths when many chess clubs are closed.
LOCATION:NICS,Maynard Sinclair Pavilion\, Stormont\, Upper Newtownards Road\, Belfast\, BT4 3TA
CONTACT:Mark Newman\, 07872544868\, mark.chris.newman@googlemail.com
CLASS:PUBLIC
END:VEVENT
END:VCALENDAR
