BEGIN:VCALENDAR
PRODID:-//AT Content Types//AT Event//EN
VERSION:1.0
BEGIN:VEVENT
DTSTART:20190710T173000Z
DTEND:20190710T204500Z
DCREATED:20190704T184326Z
UID:ATEvent-142c2930190941d58b0aa5f0ec8de3eb
SEQUENCE:0
LAST-MODIFIED:20190704T184344Z
SUMMARY:The Civil Service 2019 Summer Tournament :Week11
DESCRIPTION:The UCU Civil Service Summer Tournament is open to all che
 ss players and provides regular competitive chess during the summer mo
 nths when many chess clubs are closed.
LOCATION:NICS,Maynard Sinclair Pavilion\, Stormont\, Upper Newtownards Road\, Belfast\, BT4 3TA
PRIORITY:3
TRANSP:0
END:VEVENT
END:VCALENDAR
