BEGIN:VCALENDAR
PRODID:-//AT Content Types//AT Event//EN
VERSION:1.0
BEGIN:VEVENT
DTSTART:20181220T190000Z
DTEND:20181220T200000Z
DCREATED:20181209T221905Z
UID:ATEvent-7645f7a1845f4449b4ffda8ab7b601cd
SEQUENCE:0
LAST-MODIFIED:20181209T222804Z
SUMMARY:Coaching on Chess Openings
DESCRIPTION:Brendan Jamison (1808) delivers talk on Chess Openings at 
  Bangor Chess Club - open to all players.
LOCATION:Bangor Chess Club\, Groomsport Parish Hall\, Groomsport\, County Down
PRIORITY:3
TRANSP:0
END:VEVENT
END:VCALENDAR
