BEGIN:VCALENDAR
PRODID:-//AT Content Types//AT Event//EN
VERSION:2.0
METHOD:PUBLISH
BEGIN:VEVENT
DTSTAMP:20260419T191348Z
CREATED:20190517T151117Z
UID:ATEvent-40f2f63866d24e7ea05d94156c43bb8d
LAST-MODIFIED:20190517T185857Z
SUMMARY:ICU/UCU Summer Open Rapidplay and Blitz
DTSTART:20190721T083000Z
DTEND:20190721T163000Z
DESCRIPTION:To celebrate the 2019 Glorney Gilbert International the IC
 U and UCU have organised a FIDE rated rapidplay and blitz.
LOCATION:Carrickdale Hotel and Spa\, Carrickcarnon\, Ravensdale\, Dundalk\, A91 PR63
CONTACT:Ross Harris\, 07796172227\, rossharris168@btinternet.com
URL:https://www.icu.ie/events/1266
CLASS:PUBLIC
END:VEVENT
END:VCALENDAR
