BEGIN:VCALENDAR
PRODID:-//AT Content Types//AT Event//EN
VERSION:2.0
METHOD:PUBLISH
BEGIN:VEVENT
DTSTAMP:20260420T214524Z
CREATED:20190228T192242Z
UID:ATEvent-163cf27febae443e9044aae7c57501f9
LAST-MODIFIED:20190228T193402Z
SUMMARY:City of Belfast Championships 2019
DTSTART:20190525T073000Z
DTEND:20190527T163000Z
DESCRIPTION:City of Belfast Championships on May Bank Holiday weekend.
  Three days of two games a day. May 25th to 27th.
LOCATION:NICS,Maynard Sinclair Pavilion\, Stormont\, Upper Newtownards Road\, Belfast\, BT4 3TA
CONTACT:Mark Newman\, 07872544868\, mark.chris.newman@googlemail.com
CLASS:PUBLIC
END:VEVENT
END:VCALENDAR
