BEGIN:VCALENDAR
PRODID:-//AT Content Types//AT Event//EN
VERSION:2.0
METHOD:PUBLISH
BEGIN:VEVENT
DTSTAMP:20260419T194908Z
CREATED:20180907T142159Z
UID:ATEvent-53555cd4c9b64a0ba5f2d3e56a58efde
LAST-MODIFIED:20181108T220544Z
SUMMARY:Annual Flexible Winter Tournament 2018 -2019
DTSTART:20181119T184500Z
DTEND:20181119T214500Z
DESCRIPTION:This tournament has been on the UCU Calendar since 2012 an
 d is organised by Belfast South Chess Club. After the closure of The B
 ankers Club in December 2017 the remainder of last year's tournament w
 as held at Queen's University. Thanks to QUB Chess Club we will be aga
 in holding this year's tournament in the University. To avoid clashes 
 with other UCU events the number of rounds has been reduced to 16.
CLASS:PUBLIC
END:VEVENT
END:VCALENDAR
