BEGIN:VCALENDAR
PRODID:-//AT Content Types//AT Event//EN
VERSION:2.0
METHOD:PUBLISH
BEGIN:VEVENT
DTSTAMP:20260419T212142Z
CREATED:20180116T014002Z
UID:ATEvent-f838be8de83d40c5a41f10771979e8c9
LAST-MODIFIED:20181007T175744Z
SUMMARY:Ulster Team Rapidplay Chess Championships 2018
DTSTART:20180203T094500Z
DTEND:20180203T161500Z
DESCRIPTION:The Ulster Team Rapidplay Championships return on February
  3rd.
LOCATION:Good Shepherd Centre\, 511 Ormeau Rd\, Belfast BT7 3GS
CONTACT:Brendan Jamison\, playchessni@gmail.com
URL:http://www.chessni.co.uk/teamrapidplay2018.html
CLASS:PUBLIC
END:VEVENT
END:VCALENDAR
