BEGIN:VCALENDAR
PRODID:-//AT Content Types//AT Event//EN
VERSION:2.0
METHOD:PUBLISH
BEGIN:VEVENT
DTSTAMP:20260421T201225Z
CREATED:20180128T202952Z
UID:ATEvent-03f31da0da4d4a509bf7aeba15399c98
LAST-MODIFIED:20181007T175738Z
SUMMARY:This years simultaneous - WGM DINA BELENKAYA (2317)
DTSTART:20180222T163000Z
DTEND:20180222T220000Z
DESCRIPTION:Our annual Simultaneous event this year has the brilliant 
 Russian WGM Dina Belenkaya.
LOCATION:Good Shepherd Centre\, 511 Ormeau Rd\, Belfast BT7 3GS.
CONTACT:Damien Cunningham\, damien_cunningham@hotmail.com
CLASS:PUBLIC
END:VEVENT
END:VCALENDAR
