BEGIN:VCALENDAR
PRODID:-//AT Content Types//AT Event//EN
VERSION:2.0
METHOD:PUBLISH
BEGIN:VEVENT
DTSTAMP:20260422T190501Z
CREATED:20180618T152122Z
UID:ATEvent-47f5187fd2b94c60abe133a90b7e49e2
LAST-MODIFIED:20181007T175729Z
SUMMARY:The Irish Weekday Open Championship 2018
DTSTART:20180806T073000Z
DTEND:20180810T073000Z
DESCRIPTION:The Irish Weekday Open Championship 2018 - FIDE Rated
LOCATION:The Talbot Hotel\, Dublin
CONTACT:John McMorrow\, chairperson@icu.ie
CLASS:PUBLIC
END:VEVENT
END:VCALENDAR
